BEGIN:VCALENDAR
VERSION:2.0
PRODID:-//Umweltzentrum Erftstadt - ECPv6.15.17//NONSGML v1.0//EN
CALSCALE:GREGORIAN
METHOD:PUBLISH
X-WR-CALNAME:Umweltzentrum Erftstadt
X-ORIGINAL-URL:https://www.umweltzentrum-erftstadt.de
X-WR-CALDESC:Veranstaltungen für Umweltzentrum Erftstadt
REFRESH-INTERVAL;VALUE=DURATION:PT1H
X-Robots-Tag:noindex
X-PUBLISHED-TTL:PT1H
BEGIN:VTIMEZONE
TZID:Europe/Berlin
BEGIN:DAYLIGHT
TZOFFSETFROM:+0100
TZOFFSETTO:+0200
TZNAME:CEST
DTSTART:20250330T010000
END:DAYLIGHT
BEGIN:STANDARD
TZOFFSETFROM:+0200
TZOFFSETTO:+0100
TZNAME:CET
DTSTART:20251026T010000
END:STANDARD
BEGIN:DAYLIGHT
TZOFFSETFROM:+0100
TZOFFSETTO:+0200
TZNAME:CEST
DTSTART:20260329T010000
END:DAYLIGHT
BEGIN:STANDARD
TZOFFSETFROM:+0200
TZOFFSETTO:+0100
TZNAME:CET
DTSTART:20261025T010000
END:STANDARD
BEGIN:DAYLIGHT
TZOFFSETFROM:+0100
TZOFFSETTO:+0200
TZNAME:CEST
DTSTART:20270328T010000
END:DAYLIGHT
BEGIN:STANDARD
TZOFFSETFROM:+0200
TZOFFSETTO:+0100
TZNAME:CET
DTSTART:20271031T010000
END:STANDARD
END:VTIMEZONE
BEGIN:VEVENT
DTSTART;TZID=Europe/Berlin:20260527T180000
DTEND;TZID=Europe/Berlin:20260527T200000
DTSTAMP:20260423T144639
CREATED:20260116T204737Z
LAST-MODIFIED:20260116T205552Z
UID:10001302-1779904800-1779912000@www.umweltzentrum-erftstadt.de
SUMMARY:Spinntreff - jeden 4. Mittwoch im Monat
DESCRIPTION:In ungezwungener Runde treffen sich Leute zum Spinnen von Schafwolle\, geübte und solche\, die es lernen möchten\, und zum Austausch\, zu deren weiterer Verarbeitung. \nTreffpunkt: Umweltzentrum\, Friesheimer Busch 1\, 50374 Erftstadt \nLeitung: Dr. Petra Perge und Brigitte Stankus \nAnmeldung: niederbergerpommern@gmx.de und brigitte_stankus@yahoo.de
URL:https://www.umweltzentrum-erftstadt.de/event/spinntreff/2026-05-27/
LOCATION:Umweltzentrum Friesheimer Busch\, Friesheimer Busch 1\, Erftstadt\, 50374\, Deutschland
ATTACH;FMTTYPE=image/jpeg:https://www.umweltzentrum-erftstadt.de/wp-content/uploads/2024/09/NABU-Logo-002.jpg
END:VEVENT
BEGIN:VEVENT
DTSTART;TZID=Europe/Berlin:20260624T180000
DTEND;TZID=Europe/Berlin:20260624T200000
DTSTAMP:20260423T144639
CREATED:20260116T204737Z
LAST-MODIFIED:20260116T205552Z
UID:10001303-1782324000-1782331200@www.umweltzentrum-erftstadt.de
SUMMARY:Spinntreff - jeden 4. Mittwoch im Monat
DESCRIPTION:In ungezwungener Runde treffen sich Leute zum Spinnen von Schafwolle\, geübte und solche\, die es lernen möchten\, und zum Austausch\, zu deren weiterer Verarbeitung. \nTreffpunkt: Umweltzentrum\, Friesheimer Busch 1\, 50374 Erftstadt \nLeitung: Dr. Petra Perge und Brigitte Stankus \nAnmeldung: niederbergerpommern@gmx.de und brigitte_stankus@yahoo.de
URL:https://www.umweltzentrum-erftstadt.de/event/spinntreff/2026-06-24/
LOCATION:Umweltzentrum Friesheimer Busch\, Friesheimer Busch 1\, Erftstadt\, 50374\, Deutschland
ATTACH;FMTTYPE=image/jpeg:https://www.umweltzentrum-erftstadt.de/wp-content/uploads/2024/09/NABU-Logo-002.jpg
END:VEVENT
BEGIN:VEVENT
DTSTART;TZID=Europe/Berlin:20260722T180000
DTEND;TZID=Europe/Berlin:20260722T200000
DTSTAMP:20260423T144639
CREATED:20260116T204737Z
LAST-MODIFIED:20260116T205552Z
UID:10001304-1784743200-1784750400@www.umweltzentrum-erftstadt.de
SUMMARY:Spinntreff - jeden 4. Mittwoch im Monat
DESCRIPTION:In ungezwungener Runde treffen sich Leute zum Spinnen von Schafwolle\, geübte und solche\, die es lernen möchten\, und zum Austausch\, zu deren weiterer Verarbeitung. \nTreffpunkt: Umweltzentrum\, Friesheimer Busch 1\, 50374 Erftstadt \nLeitung: Dr. Petra Perge und Brigitte Stankus \nAnmeldung: niederbergerpommern@gmx.de und brigitte_stankus@yahoo.de
URL:https://www.umweltzentrum-erftstadt.de/event/spinntreff/2026-07-22/
LOCATION:Umweltzentrum Friesheimer Busch\, Friesheimer Busch 1\, Erftstadt\, 50374\, Deutschland
ATTACH;FMTTYPE=image/jpeg:https://www.umweltzentrum-erftstadt.de/wp-content/uploads/2024/09/NABU-Logo-002.jpg
END:VEVENT
BEGIN:VEVENT
DTSTART;TZID=Europe/Berlin:20260826T180000
DTEND;TZID=Europe/Berlin:20260826T200000
DTSTAMP:20260423T144639
CREATED:20260116T204737Z
LAST-MODIFIED:20260116T205552Z
UID:10001305-1787767200-1787774400@www.umweltzentrum-erftstadt.de
SUMMARY:Spinntreff - jeden 4. Mittwoch im Monat
DESCRIPTION:In ungezwungener Runde treffen sich Leute zum Spinnen von Schafwolle\, geübte und solche\, die es lernen möchten\, und zum Austausch\, zu deren weiterer Verarbeitung. \nTreffpunkt: Umweltzentrum\, Friesheimer Busch 1\, 50374 Erftstadt \nLeitung: Dr. Petra Perge und Brigitte Stankus \nAnmeldung: niederbergerpommern@gmx.de und brigitte_stankus@yahoo.de
URL:https://www.umweltzentrum-erftstadt.de/event/spinntreff/2026-08-26/
LOCATION:Umweltzentrum Friesheimer Busch\, Friesheimer Busch 1\, Erftstadt\, 50374\, Deutschland
ATTACH;FMTTYPE=image/jpeg:https://www.umweltzentrum-erftstadt.de/wp-content/uploads/2024/09/NABU-Logo-002.jpg
END:VEVENT
BEGIN:VEVENT
DTSTART;TZID=Europe/Berlin:20260923T180000
DTEND;TZID=Europe/Berlin:20260923T200000
DTSTAMP:20260423T144639
CREATED:20260116T204737Z
LAST-MODIFIED:20260116T205552Z
UID:10001306-1790186400-1790193600@www.umweltzentrum-erftstadt.de
SUMMARY:Spinntreff - jeden 4. Mittwoch im Monat
DESCRIPTION:In ungezwungener Runde treffen sich Leute zum Spinnen von Schafwolle\, geübte und solche\, die es lernen möchten\, und zum Austausch\, zu deren weiterer Verarbeitung. \nTreffpunkt: Umweltzentrum\, Friesheimer Busch 1\, 50374 Erftstadt \nLeitung: Dr. Petra Perge und Brigitte Stankus \nAnmeldung: niederbergerpommern@gmx.de und brigitte_stankus@yahoo.de
URL:https://www.umweltzentrum-erftstadt.de/event/spinntreff/2026-09-23/
LOCATION:Umweltzentrum Friesheimer Busch\, Friesheimer Busch 1\, Erftstadt\, 50374\, Deutschland
ATTACH;FMTTYPE=image/jpeg:https://www.umweltzentrum-erftstadt.de/wp-content/uploads/2024/09/NABU-Logo-002.jpg
END:VEVENT
BEGIN:VEVENT
DTSTART;TZID=Europe/Berlin:20261028T180000
DTEND;TZID=Europe/Berlin:20261028T200000
DTSTAMP:20260423T144639
CREATED:20260116T204737Z
LAST-MODIFIED:20260116T205552Z
UID:10001307-1793210400-1793217600@www.umweltzentrum-erftstadt.de
SUMMARY:Spinntreff - jeden 4. Mittwoch im Monat
DESCRIPTION:In ungezwungener Runde treffen sich Leute zum Spinnen von Schafwolle\, geübte und solche\, die es lernen möchten\, und zum Austausch\, zu deren weiterer Verarbeitung. \nTreffpunkt: Umweltzentrum\, Friesheimer Busch 1\, 50374 Erftstadt \nLeitung: Dr. Petra Perge und Brigitte Stankus \nAnmeldung: niederbergerpommern@gmx.de und brigitte_stankus@yahoo.de
URL:https://www.umweltzentrum-erftstadt.de/event/spinntreff/2026-10-28/
LOCATION:Umweltzentrum Friesheimer Busch\, Friesheimer Busch 1\, Erftstadt\, 50374\, Deutschland
ATTACH;FMTTYPE=image/jpeg:https://www.umweltzentrum-erftstadt.de/wp-content/uploads/2024/09/NABU-Logo-002.jpg
END:VEVENT
BEGIN:VEVENT
DTSTART;TZID=Europe/Berlin:20261125T180000
DTEND;TZID=Europe/Berlin:20261125T200000
DTSTAMP:20260423T144639
CREATED:20260116T204737Z
LAST-MODIFIED:20260116T205552Z
UID:10001308-1795629600-1795636800@www.umweltzentrum-erftstadt.de
SUMMARY:Spinntreff - jeden 4. Mittwoch im Monat
DESCRIPTION:In ungezwungener Runde treffen sich Leute zum Spinnen von Schafwolle\, geübte und solche\, die es lernen möchten\, und zum Austausch\, zu deren weiterer Verarbeitung. \nTreffpunkt: Umweltzentrum\, Friesheimer Busch 1\, 50374 Erftstadt \nLeitung: Dr. Petra Perge und Brigitte Stankus \nAnmeldung: niederbergerpommern@gmx.de und brigitte_stankus@yahoo.de
URL:https://www.umweltzentrum-erftstadt.de/event/spinntreff/2026-11-25/
LOCATION:Umweltzentrum Friesheimer Busch\, Friesheimer Busch 1\, Erftstadt\, 50374\, Deutschland
ATTACH;FMTTYPE=image/jpeg:https://www.umweltzentrum-erftstadt.de/wp-content/uploads/2024/09/NABU-Logo-002.jpg
END:VEVENT
BEGIN:VEVENT
DTSTART;TZID=Europe/Berlin:20261223T180000
DTEND;TZID=Europe/Berlin:20261223T200000
DTSTAMP:20260423T144639
CREATED:20260116T204737Z
LAST-MODIFIED:20260116T205552Z
UID:10001309-1798048800-1798056000@www.umweltzentrum-erftstadt.de
SUMMARY:Spinntreff - jeden 4. Mittwoch im Monat
DESCRIPTION:In ungezwungener Runde treffen sich Leute zum Spinnen von Schafwolle\, geübte und solche\, die es lernen möchten\, und zum Austausch\, zu deren weiterer Verarbeitung. \nTreffpunkt: Umweltzentrum\, Friesheimer Busch 1\, 50374 Erftstadt \nLeitung: Dr. Petra Perge und Brigitte Stankus \nAnmeldung: niederbergerpommern@gmx.de und brigitte_stankus@yahoo.de
URL:https://www.umweltzentrum-erftstadt.de/event/spinntreff/2026-12-23/
LOCATION:Umweltzentrum Friesheimer Busch\, Friesheimer Busch 1\, Erftstadt\, 50374\, Deutschland
ATTACH;FMTTYPE=image/jpeg:https://www.umweltzentrum-erftstadt.de/wp-content/uploads/2024/09/NABU-Logo-002.jpg
END:VEVENT
END:VCALENDAR