BEGIN:VCALENDAR
VERSION:2.0
PRODID:-//Umweltzentrum Erftstadt - ECPv6.15.17//NONSGML v1.0//EN
CALSCALE:GREGORIAN
METHOD:PUBLISH
X-ORIGINAL-URL:https://www.umweltzentrum-erftstadt.de
X-WR-CALDESC:Veranstaltungen für Umweltzentrum Erftstadt
REFRESH-INTERVAL;VALUE=DURATION:PT1H
X-Robots-Tag:noindex
X-PUBLISHED-TTL:PT1H
BEGIN:VTIMEZONE
TZID:Europe/Berlin
BEGIN:DAYLIGHT
TZOFFSETFROM:+0100
TZOFFSETTO:+0200
TZNAME:CEST
DTSTART:20220327T010000
END:DAYLIGHT
BEGIN:STANDARD
TZOFFSETFROM:+0200
TZOFFSETTO:+0100
TZNAME:CET
DTSTART:20221030T010000
END:STANDARD
BEGIN:DAYLIGHT
TZOFFSETFROM:+0100
TZOFFSETTO:+0200
TZNAME:CEST
DTSTART:20230326T010000
END:DAYLIGHT
BEGIN:STANDARD
TZOFFSETFROM:+0200
TZOFFSETTO:+0100
TZNAME:CET
DTSTART:20231029T010000
END:STANDARD
BEGIN:DAYLIGHT
TZOFFSETFROM:+0100
TZOFFSETTO:+0200
TZNAME:CEST
DTSTART:20240331T010000
END:DAYLIGHT
BEGIN:STANDARD
TZOFFSETFROM:+0200
TZOFFSETTO:+0100
TZNAME:CET
DTSTART:20241027T010000
END:STANDARD
END:VTIMEZONE
BEGIN:VEVENT
DTSTART;TZID=Europe/Berlin:20230727T100000
DTEND;TZID=Europe/Berlin:20230728T160000
DTSTAMP:20260421T051103
CREATED:20230719T162426Z
LAST-MODIFIED:20230720T105318Z
UID:10000001-1690452000-1690560000@www.umweltzentrum-erftstadt.de
SUMMARY:Bodenwerkstatt
DESCRIPTION:Kinder lernen bei Wald- und Wiesenexkursionen alles über den Boden\, über seine Entstehung und das vielfältige Leben darin\, über Bodenschätze und Fossilien\, über Bodengesundheit aber auch über die Gefahren für unsere Lebensgrundlage.\nDas Programm dieser Veranstaltung ist ausgelegt für Kinder im Alter von 6-12 Jahren. Zweitägige Veranstaltung des Umweltnetzwerks in den Sommer- und Herbstferien. \nVerbindliche Anmeldung bis 13.07.2023 erforderlich!\nKosten: 50 €\, inklusive Mittagessen\,Getränke sowie Material\n2 Tage
URL:https://www.umweltzentrum-erftstadt.de/event/bodenwerkstatt/
LOCATION:Umweltzentrum Friesheimer Busch\, Friesheimer Busch 1\, Erftstadt\, 50374\, Deutschland
ORGANIZER;CN="Umweltnetzwerk Erftstadt":MAILTO:dr.wolfgang-mett@umweltzentrum-erftstadt.de
END:VEVENT
END:VCALENDAR