BEGIN:VCALENDAR
VERSION:2.0
PRODID:-//Umweltzentrum Erftstadt - ECPv6.15.17//NONSGML v1.0//EN
CALSCALE:GREGORIAN
METHOD:PUBLISH
X-ORIGINAL-URL:https://www.umweltzentrum-erftstadt.de
X-WR-CALDESC:Veranstaltungen für Umweltzentrum Erftstadt
REFRESH-INTERVAL;VALUE=DURATION:PT1H
X-Robots-Tag:noindex
X-PUBLISHED-TTL:PT1H
BEGIN:VTIMEZONE
TZID:Europe/Berlin
BEGIN:DAYLIGHT
TZOFFSETFROM:+0100
TZOFFSETTO:+0200
TZNAME:CEST
DTSTART:20230326T010000
END:DAYLIGHT
BEGIN:STANDARD
TZOFFSETFROM:+0200
TZOFFSETTO:+0100
TZNAME:CET
DTSTART:20231029T010000
END:STANDARD
BEGIN:DAYLIGHT
TZOFFSETFROM:+0100
TZOFFSETTO:+0200
TZNAME:CEST
DTSTART:20240331T010000
END:DAYLIGHT
BEGIN:STANDARD
TZOFFSETFROM:+0200
TZOFFSETTO:+0100
TZNAME:CET
DTSTART:20241027T010000
END:STANDARD
BEGIN:DAYLIGHT
TZOFFSETFROM:+0100
TZOFFSETTO:+0200
TZNAME:CEST
DTSTART:20250330T010000
END:DAYLIGHT
BEGIN:STANDARD
TZOFFSETFROM:+0200
TZOFFSETTO:+0100
TZNAME:CET
DTSTART:20251026T010000
END:STANDARD
END:VTIMEZONE
BEGIN:VEVENT
DTSTART;TZID=Europe/Berlin:20240918T180000
DTEND;TZID=Europe/Berlin:20240918T200000
DTSTAMP:20260425T040829
CREATED:20240730T133423Z
LAST-MODIFIED:20240730T133423Z
UID:10001209-1726682400-1726689600@www.umweltzentrum-erftstadt.de
SUMMARY:Wolle ma' upcyceln
DESCRIPTION:Wer kennt es nicht: Da hat man sich einen besonderen Pullover gegönnt\, und nach kurzer Zeit findet man Löcher darin. Das kann doch kein Grund sein\, das gute Stück wegzuwerfen! Stopfen war gestern; heute wird upgecycelt. Was da für tolle Sachen herauskommen können\, das kann man in einem neuen Workshop lernen\, der am 15.5.24 im Friesheimer Busch startet. Ob Löcher\, ausgeleierte Bündchen oder auch zu enge Halsausschnitte: Es gibt nichts\, was man nicht mit guten Ideen wieder schöner machen kann. Kreativität\, Stolz auf das eigene Werk und das gute Gefühl kommen von ganz allein … \nGeplant sind monatliche Treffen versuchsweise jeden dritten Mittwoch im Monat um 18 Uhr. Mitbringen: alles\, was gefällt und wieder schön werden soll; gern auch Woll- und Nähgarne. Anmeldung bei Dr. Kathrin Volkmann\, obstwiese@yahoo.de\, 0177 442 5342. Bitte melden Sie sich auch\, wenn Sie gern mitmachen möchten\, aber nur zu einem anderen Termin können.
URL:https://www.umweltzentrum-erftstadt.de/event/wolle-ma-upcyceln-2/2024-09-18/
LOCATION:Umweltzentrum Friesheimer Busch\, Friesheimer Busch 1\, Erftstadt\, 50374\, Deutschland
ORGANIZER;CN="Kathrin Volkmann":MAILTO:obstwiese@yahoo.de
END:VEVENT
END:VCALENDAR