BEGIN:VCALENDAR
VERSION:2.0
PRODID:-//Umweltzentrum Erftstadt - ECPv6.15.17//NONSGML v1.0//EN
CALSCALE:GREGORIAN
METHOD:PUBLISH
X-WR-CALNAME:Umweltzentrum Erftstadt
X-ORIGINAL-URL:https://www.umweltzentrum-erftstadt.de
X-WR-CALDESC:Veranstaltungen für Umweltzentrum Erftstadt
REFRESH-INTERVAL;VALUE=DURATION:PT1H
X-Robots-Tag:noindex
X-PUBLISHED-TTL:PT1H
BEGIN:VTIMEZONE
TZID:Europe/Berlin
BEGIN:DAYLIGHT
TZOFFSETFROM:+0100
TZOFFSETTO:+0200
TZNAME:CEST
DTSTART:20250330T010000
END:DAYLIGHT
BEGIN:STANDARD
TZOFFSETFROM:+0200
TZOFFSETTO:+0100
TZNAME:CET
DTSTART:20251026T010000
END:STANDARD
BEGIN:DAYLIGHT
TZOFFSETFROM:+0100
TZOFFSETTO:+0200
TZNAME:CEST
DTSTART:20260329T010000
END:DAYLIGHT
BEGIN:STANDARD
TZOFFSETFROM:+0200
TZOFFSETTO:+0100
TZNAME:CET
DTSTART:20261025T010000
END:STANDARD
BEGIN:DAYLIGHT
TZOFFSETFROM:+0100
TZOFFSETTO:+0200
TZNAME:CEST
DTSTART:20270328T010000
END:DAYLIGHT
BEGIN:STANDARD
TZOFFSETFROM:+0200
TZOFFSETTO:+0100
TZNAME:CET
DTSTART:20271031T010000
END:STANDARD
END:VTIMEZONE
BEGIN:VEVENT
DTSTART;TZID=Europe/Berlin:20260422T180000
DTEND;TZID=Europe/Berlin:20260422T200000
DTSTAMP:20260422T032142
CREATED:20260116T204737Z
LAST-MODIFIED:20260116T205552Z
UID:10001301-1776880800-1776888000@www.umweltzentrum-erftstadt.de
SUMMARY:Spinntreff - jeden 4. Mittwoch im Monat
DESCRIPTION:In ungezwungener Runde treffen sich Leute zum Spinnen von Schafwolle\, geübte und solche\, die es lernen möchten\, und zum Austausch\, zu deren weiterer Verarbeitung. \nTreffpunkt: Umweltzentrum\, Friesheimer Busch 1\, 50374 Erftstadt \nLeitung: Dr. Petra Perge und Brigitte Stankus \nAnmeldung: niederbergerpommern@gmx.de und brigitte_stankus@yahoo.de
URL:https://www.umweltzentrum-erftstadt.de/event/spinntreff/2026-04-22/
LOCATION:Umweltzentrum Friesheimer Busch\, Friesheimer Busch 1\, Erftstadt\, 50374\, Deutschland
ATTACH;FMTTYPE=image/jpeg:https://www.umweltzentrum-erftstadt.de/wp-content/uploads/2024/09/NABU-Logo-002.jpg
END:VEVENT
END:VCALENDAR