BEGIN:VCALENDAR
VERSION:2.0
PRODID:-//Umweltzentrum Erftstadt - ECPv6.15.17//NONSGML v1.0//EN
CALSCALE:GREGORIAN
METHOD:PUBLISH
X-WR-CALNAME:Umweltzentrum Erftstadt
X-ORIGINAL-URL:https://www.umweltzentrum-erftstadt.de
X-WR-CALDESC:Veranstaltungen für Umweltzentrum Erftstadt
REFRESH-INTERVAL;VALUE=DURATION:PT1H
X-Robots-Tag:noindex
X-PUBLISHED-TTL:PT1H
BEGIN:VTIMEZONE
TZID:Europe/Berlin
BEGIN:DAYLIGHT
TZOFFSETFROM:+0100
TZOFFSETTO:+0200
TZNAME:CEST
DTSTART:20250330T010000
END:DAYLIGHT
BEGIN:STANDARD
TZOFFSETFROM:+0200
TZOFFSETTO:+0100
TZNAME:CET
DTSTART:20251026T010000
END:STANDARD
BEGIN:DAYLIGHT
TZOFFSETFROM:+0100
TZOFFSETTO:+0200
TZNAME:CEST
DTSTART:20260329T010000
END:DAYLIGHT
BEGIN:STANDARD
TZOFFSETFROM:+0200
TZOFFSETTO:+0100
TZNAME:CET
DTSTART:20261025T010000
END:STANDARD
BEGIN:DAYLIGHT
TZOFFSETFROM:+0100
TZOFFSETTO:+0200
TZNAME:CEST
DTSTART:20270328T010000
END:DAYLIGHT
BEGIN:STANDARD
TZOFFSETFROM:+0200
TZOFFSETTO:+0100
TZNAME:CET
DTSTART:20271031T010000
END:STANDARD
END:VTIMEZONE
BEGIN:VEVENT
DTSTART;TZID=Europe/Berlin:20260425T150000
DTEND;TZID=Europe/Berlin:20260425T173000
DTSTAMP:20260425T021502
CREATED:20260126T173012Z
LAST-MODIFIED:20260126T173058Z
UID:10001329-1777129200-1777138200@www.umweltzentrum-erftstadt.de
SUMMARY:Wald-Yoga-Führung mit Miriam & Melanie
DESCRIPTION:„Es gibt kein Wifi im Wald\, aber dafür eine viel bessere Verbindung“ 🙂 \nEntdeckt mit uns den Wald neu: Miriam und Melanie führen Euch mit erstaunlichen Geschichten und wissenschaftlichen Erkenntnissen und zu einer ganz neuen Begegnung mit der Natur: Lebendig\, erstaunlich und entspannend. \nBei unserer Wanderung zum geheimen Leben der Bäume erfahrt Ihr Faszinierendes: \n\nBäume\, die ihren Nachwuchs liebevoll umsorgen\nAusgeklügelte unterirdische Kommunikationssysteme\nFrühjahrsidyll? Warum für Bäume jetzt die gefährlichste Zeit des Jahres beginnt\n\nMal taucht Ihr mit einfachen Yoga-Sequenzen tiefer in dieses Waldwissen ein\, mal zoomt Ihr Euch in unbekannte Miniaturwelten – anschaulich\, achtsam und aktiv. Neugierig? \nDann begrüßen wir Euch am Seminargebäude im Umweltzentrum Friesheimer Busch. \n\nMiriam: Naturreferentin & Waldführerin\nMelanie: Yogalehrerin & Pädagogin\n2\,5 Stunden\, 45 Euro / Person\nMindestteilnehmerzahl: 6\n\nAnmeldung jeweils spätestens eine Woche vorher an:\njuwel@wildnis-wald.de
URL:https://www.umweltzentrum-erftstadt.de/event/wald-yoga-fuehrung-mit-miriam-melanie/2026-04-25/
LOCATION:Umweltzentrum Friesheimer Busch Seminarraum
ATTACH;FMTTYPE=image/jpeg:https://www.umweltzentrum-erftstadt.de/wp-content/uploads/2026/01/Esche_Gruppe-scaled-e1769448576810.jpg
ORGANIZER;CN="Melanie und Miriam Moser":MAILTO:yoga@melmoser.de
END:VEVENT
END:VCALENDAR