BEGIN:VCALENDAR
VERSION:2.0
PRODID:-//Umweltzentrum Erftstadt - ECPv6.15.17//NONSGML v1.0//EN
CALSCALE:GREGORIAN
METHOD:PUBLISH
X-ORIGINAL-URL:https://www.umweltzentrum-erftstadt.de
X-WR-CALDESC:Veranstaltungen für Umweltzentrum Erftstadt
REFRESH-INTERVAL;VALUE=DURATION:PT1H
X-Robots-Tag:noindex
X-PUBLISHED-TTL:PT1H
BEGIN:VTIMEZONE
TZID:Europe/Berlin
BEGIN:DAYLIGHT
TZOFFSETFROM:+0100
TZOFFSETTO:+0200
TZNAME:CEST
DTSTART:20220327T010000
END:DAYLIGHT
BEGIN:STANDARD
TZOFFSETFROM:+0200
TZOFFSETTO:+0100
TZNAME:CET
DTSTART:20221030T010000
END:STANDARD
BEGIN:DAYLIGHT
TZOFFSETFROM:+0100
TZOFFSETTO:+0200
TZNAME:CEST
DTSTART:20230326T010000
END:DAYLIGHT
BEGIN:STANDARD
TZOFFSETFROM:+0200
TZOFFSETTO:+0100
TZNAME:CET
DTSTART:20231029T010000
END:STANDARD
BEGIN:DAYLIGHT
TZOFFSETFROM:+0100
TZOFFSETTO:+0200
TZNAME:CEST
DTSTART:20240331T010000
END:DAYLIGHT
BEGIN:STANDARD
TZOFFSETFROM:+0200
TZOFFSETTO:+0100
TZNAME:CET
DTSTART:20241027T010000
END:STANDARD
END:VTIMEZONE
BEGIN:VEVENT
DTSTART;TZID=Europe/Berlin:20230610T140000
DTEND;TZID=Europe/Berlin:20230610T170000
DTSTAMP:20260421T045755
CREATED:20230720T103330Z
LAST-MODIFIED:20230720T103330Z
UID:10000008-1686405600-1686416400@www.umweltzentrum-erftstadt.de
SUMMARY:Exkursion durch das Naturschutzgebiet 'Ehemaliges Munitionsdepot Friesheimer Busch'
DESCRIPTION:Wir wandern durch das Naturschutzgebiet mit seiner großen Pflanzen-vielfalt und zahlreichen Insektenarten. Gemeinsame Exkursion mit dem NABU Rhein‐Erft.\nLeitung: Dr. Bernhard Arnold und Dr. Matthias Schindler Teilnehmerzahl begrenzt.\nAnmeldung erforderlich.
URL:https://www.umweltzentrum-erftstadt.de/event/exkursion-durch-das-naturschutzgebiet-ehemaliges-munitionsdepot-friesheimer-busch/
ORGANIZER;CN="Biologische Station Bonn / Rhein-Erft":MAILTO:anmeldung@biostation-bonn-rheinerft.de
END:VEVENT
END:VCALENDAR